{"text_format":"1","workbook":"xlsx","n_sheets":6,"sheets":["助成申込書（入力シート）","助成申込書1頁（自動入力）","助成申込書2頁（自動入力）","助成申込書３頁（自動入力）","助成申込書４頁（補紙・その他）","リスト"],"not_rendered":{"charts":0,"images":0,"macros":1,"external_links":0,"defined_names":0,"comments":0,"pivot_tables":0},"unopened":[],"bounds":{"document_bytes":16777216,"sheet_cells":100000,"rows_first":2000,"rows_last":500,"rows_between":2000,"halvings":0,"cell_chars":16384,"cell_head_chars":4096},"cells_cut":0,"cells_raw":0,"read":"whole","date_system":"1900"}

{"sheet":"助成申込書（入力シート）","index":0,"n_rows":109,"n_cols":12,"rows_kept":109,"cut":false,"hidden":false,"merged":[[54,1,60,1],[51,1,52,2],[62,1,62,3],[63,1,63,11],[64,1,77,1],[78,1,89,1],[65,3,65,6],[66,3,66,6],[88,2,88,6],[89,2,89,6],[83,3,83,6],[74,3,74,6],[75,3,75,6],[76,3,76,6],[68,3,68,6],[69,3,69,6],[70,3,70,6],[71,3,71,6],[77,2,77,6],[53,1,53,2],[53,3,53,11],[52,5,52,11],[55,4,60,11],[54,4,54,11],[98,3,99,3],[99,5,99,6],[98,7,98,11],[99,7,99,11],[67,3,67,6],[64,2,64,6],[79,3,79,6],[80,3,80,6],[81,3,81,6],[82,3,82,6],[72,3,72,6],[73,3,73,6],[97,4,97,11],[64,9,87,11],[88,9,88,11],[89,9,89,10],[84,3,84,6],[85,3,85,6],[86,3,86,6],[87,3,87,6],[78,3,78,6],[107,1,110,1],[91,1,91,6],[91,9,91,11],[98,5,98,6],[14,3,14,4],[14,5,14,11],[18,3,18,4],[18,5,18,11],[19,3,19,6],[20,3,20,6],[15,1,17,1],[15,3,15,11],[16,3,16,6],[17,3,17,6],[18,1,23,1],[16,7,17,7],[16,8,17,11],[21,3,21,6],[22,3,22,6],[23,3,23,6],[21,7,23,11],[19,9,20,11],[97,1,99,1],[98,2,99,2],[49,2,49,6],[50,2,50,6],[31,1,35,1],[33,2,33,6],[108,2,110,2],[108,3,108,11],[110,3,110,11],[94,1,94,11],[95,1,95,11],[96,1,96,11],[100,1,100,11],[90,1,90,11],[92,1,93,2],[92,3,92,11],[93,3,93,11],[109,3,109,11],[107,4,107,11],[101,4,101,11],[102,2,105,2],[102,3,102,11],[103,3,103,11],[104,3,104,11],[105,3,105,11],[106,1,106,11],[11,3,11,11],[13,3,13,11],[3,3,3,11],[6,1,9,1],[6,4,9,11],[47,1,50,1],[31,7,50,11],[43,1,46,1],[36,1,42,1],[34,2,34,6],[35,2,35,6],[36,2,36,6],[37,2,37,6],[38,2,38,6],[39,2,39,6],[40,2,40,6],[41,2,41,6],[42,2,42,6],[43,2,43,6],[44,2,44,6],[45,2,45,6],[46,2,46,6],[47,2,47,6],[48,2,48,6],[51,3,51,11],[5,3,5,11],[3,1,5,1],[4,2,5,2],[12,1,13,1],[1,1,1,2],[1,3,1,11],[2,1,2,2],[4,3,4,11],[2,9,2,11],[30,7,30,11],[25,1,25,3],[26,1,26,2],[26,3,26,11],[27,1,27,2],[27,3,27,11],[29,1,29,3],[31,2,31,6],[32,2,32,6],[30,2,30,6],[12,3,12,11],[10,1,10,2],[10,3,10,11],[11,1,11,2]]}
[]
[null,"項　目",null,"記　　入　　内　　容"]
[null,"申込年月日",null,null,"年",null,"月",null,"日"]
[null,"活動名","（ふりがな）"]
[null,null,"正式名称"]
[null,null,null,"「創立○○周年記念公演」「第○回」等、ポスター等に記載する具体的な正式名称をご記入ください。"]
[null,"活動分野","美術",null," 該当に〇をつけてください。\n分野が複数にわたる場合は、該当する分野すべてに〇をつけてください。"]
[null,null,"音楽"]
[null,null,"伝統文化"]
[null,null,"スポーツ"]
[null,"実施時期"]
[null,"実施場所"]
[null,"団体名","（ふりがな）"]
[null,null,"名　称"]
[null,"団体所在地","〒・住　所","　"]
[null,"団体代表者","役職名"]
[null,null,"（ふりがな）",null,null,null,null,"TEL"]
[null,null,"氏　名"]
[null,"団体連絡先","〒・住　所","　"]
[null,null,"（ふりがな）",null,null,null,null,"勤務先",null,"いずれかに〇をしてください。\n勤務先の場合は、部署・所属名\nも記入してください。"]
[null,null,"氏　名",null,null,null,null,"自宅"]
[null,null,"TEL",null,null,null,null,"連絡先につきましては、当財団からの書類郵送や確認等のために利用させていただきますので、平日の日中に連絡がつく電話番号をご記入ください。\nなお、メールアドレスをお持ちでしたら必ずご記入ください。\n個人情報の管理は徹底いたします。"]
[null,null,"FAX"]
[null,null,"メールアドレス"]
[]
[null,"１．申込団体の概要"]
[null,"団体の目的"]
[null,"団体の沿革"]
[]
[null,"２．活動の内容"]
[null,"活動分野","必　須　項　目",null,null,null,null,"備　　　　考"]
[null,{"$f":"IF(D7=\"\",\"美術\",\"■ 美術\")","v":"美術"},"（１）出品者名（○○市在住）〇人",null,null,null,null,"「活動分野別の必須記入項目一覧」をご参照のうえ、できるだけ具体的にご記入ください。\n（記入欄が足りない場合は、４頁の補紙をご利用ください。）\n\n● 実施計画書や最近のパンフレット・チラシ等、活動内容がわかるものを添付してください。\n　なお、応募資料は返却いたしませんのであらかじめご了承ください。\n\n● 過去に助成を受けた団体は、〔特にアピールしたい事項〕欄には、「新たに工夫したことや前回との変更点など」をご記入ください。"]
[null,null,"（２）中国地域在住者　〇％"]
[null,null,"（３）出品数　〇点"]
[null,null,"（４）ジャンル"]
[null,null,"（５）審査員（公募展の場合）"]
[null,{"$f":"IF(D8=\"\",\"音楽\",\"■ 音楽\")","v":"音楽"},"（１）曲目"]
[null,null,"（２）作詞・作曲者名"]
[null,null,"（３）演奏時間"]
[null,null,"（４）演出者名（○○市在住）"]
[null,null,"（５）演奏者名（○○市在住）〇人"]
[null,null,"（６）指揮者名（○○市在住）"]
[null,null,"（７）中国地域在住者　〇％"]
[null,{"$f":"IF(D9=\"\",\"伝統文化\",\"■ 伝統文化\")","v":"伝統文化"},"（１）発祥の時期・由来"]
[null,null,"（２）出演（参加）者　〇人"]
[null,null,"（３）中国地域在住者　〇％"]
[null,null,"（４）演目（品名）"]
[null,{"$f":"IF(D10=\"\",\"スポーツ\",\"■ スポーツ\")","v":"スポーツ"},"（１）実施内容・方法"]
[null,null,"（２）出場（参加）者（○○市在住）〇人"]
[null,null,"（３）中国地域在住者　〇％"]
[null,null,"（４）出場（参加）者のうち、高校生以下の構成比率　〇％"]
[null,"具体的な内容\n\n\n\n\n"]
[null,null,null,"補紙あり","〇","４頁の補紙をご利用される場合は、〇を入れてください。"]
[null,"特にアピールしたい事項"]
[null,"助成実績","無",null,"当財団から過去に助成を受けた実績がない場合は、○を入れていください。"]
[null,null,"2024 前期",null,"当財団から過去に助成を受けた実績があれば、該当年度に○を入れてください。"]
[null,null,2023]
[null,null,2022]
[null,null,2021]
[null,null,2020]
[null,null,2019]
[]
[null,"３．収支計画・使用内容等"]
[null,"（１）収支計画"]
[null,"支出","項目",null,null,null,null,"金額","単位","当財団からの助成が無いものとして\n支出・収入計画をご記入ください。\n\n支出合計と収入合計は必ず一致さ\nせてください。\n\n支出・収入の各項目は、細分化して\nご記入ください。"]
[null,null,"1.",null,null,null,null,null,"万円"]
[null,null,"2.",null,null,null,null,null,"万円"]
[null,null,"3.",null,null,null,null,null,"万円"]
[null,null,"4.",null,null,null,null,null,"万円"]
[null,null,"5.",null,null,null,null,null,"万円"]
[null,null,"6.",null,null,null,null,null,"万円"]
[null,null,"7.",null,null,null,null,null,"万円"]
[null,null,"8.",null,null,null,null,null,"万円"]
[null,null,"9.",null,null,null,null,null,"万円"]
[null,null,"10.",null,null,null,null,null,"万円"]
[null,null,"11.",null,null,null,null,null,"万円"]
[null,null,"12.",null,null,null,null,null,"万円"]
[null,null,"支出合計",null,null,null,null,{"$f":"SUM(H66:H77)","v":0},"万円"]
[null,"収入","1.",null,null,null,null,null,"万円"]
[null,null,"2.",null,null,null,null,null,"万円"]
[null,null,"3.",null,null,null,null,null,"万円"]
[null,null,"4.",null,null,null,null,null,"万円"]
[null,null,"5.",null,null,null,null,null,"万円"]
[null,null,"6.",null,null,null,null,null,"万円"]
[null,null,"7.",null,null,null,null,null,"万円"]
[null,null,"8.",null,null,null,null,null,"万円"]
[null,null,"9.",null,null,null,null,null,"万円"]
[null,null,"10.",null,null,null,null,null,"万円"]
[null,null,"自己負担金",null,null,null,null,null,"万円","収支差額"]
[null,null,"収入合計",null,null,null,null,{"$f":"SUM(H79:H88)+H89","v":0},"万円",{"$f":"H90-H78","v":0},null,"万円"]
[null,"（２）助成希望額（※１）とその使用内容（※２）"]
[null,"助成希望額（原則 10～50万円）",null,null,null,null,null,null,"万円"]
[null,"使用内容",null,"上記支出欄のうち、どの項目に使用するのかをご記入ください。"]
[]
[null,"※１　助成額は、対象となる経費の２分の１を上限"]
[null,"※２　助成の対象とならない経費（募集要項参照）があります。"]
[null,"（３）入場料"]
[null,"入場料","無　料",null,"入場料が「無料」の場合は、○を入れていください。"]
[null,null,"有　料","金　額","一般",null,null,"当日の入場料"]
[null,null,null,null,"その他"]
[null,"（４）協賛者等"]
[null,null,"無し",null,"協賛者等が「無い」の場合は、○を入れていください。"]
[null,"主催者","有り"]
[null,"共催者"]
[null,"協賛者"]
[null,"後援者"]
[null,"（５）他団体への申請の有無（お差支えなげれば、ご記入ください）"]
[null,"申請先","無し",null,"他団体への申請が「無い」の場合は、○を入れていください。"]
[null,null,"有り"]

{"sheet":"助成申込書1頁（自動入力）","index":1,"n_rows":31,"n_cols":12,"rows_kept":31,"cut":false,"hidden":false,"merged":[[17,1,17,2],[18,1,18,8],[13,0,15,0],[13,2,13,11],[14,2,14,5],[15,2,15,5],[14,6,15,6],[14,7,15,11],[16,0,16,11],[17,0,19,0],[19,1,19,11],[5,0,6,0],[5,9,5,11],[6,1,6,11],[1,0,1,11],[2,1,2,11],[3,0,4,0],[3,1,3,11],[4,1,4,11],[7,1,7,11],[8,1,8,11],[9,1,9,11],[10,1,10,11],[11,0,12,0],[11,1,11,2],[12,1,12,11],[30,0,30,11],[24,0,24,11],[26,0,26,11],[22,1,22,5],[22,7,22,11],[20,1,20,11],[21,1,21,11],[23,1,23,11],[29,0,29,11],[27,0,27,11],[28,0,28,11]]}
[null,null,null,null,null,null,null,null,null,{"$f":"IF('助成申込書（入力シート）'!D3=\"\",\"\",'助成申込書（入力シート）'!D3)","v":""},{"$f":"IF('助成申込書（入力シート）'!F3=\"\",\"\",'助成申込書（入力シート）'!F3)","v":""},{"$f":"IF('助成申込書（入力シート）'!H3=\"\",\"\",'助成申込書（入力シート）'!H3)","v":""}]
["２０２４年度　後期助成申込書"]
["ふりがな",{"$f":"IF('助成申込書（入力シート）'!D4=\"\",\"\",'助成申込書（入力シート）'!D4)","v":""}]
["活 動 名",{"$f":"IF('助成申込書（入力シート）'!D5=\"\",\"\",'助成申込書（入力シート）'!D5)","v":""}]
[null,"(「創立○○周年記念公演」「第○回」等、ポスター等に記載する具体的な正式名称をご記入ください。)"]
["活動分野",{"$f":"IF('助成申込書（入力シート）'!D7=\"\",\"□\",\"■\")","v":"□"},"美　術",{"$f":"IF('助成申込書（入力シート）'!D8=\"\",\"□\",\"■\")","v":"□"},"音　楽",{"$f":"IF('助成申込書（入力シート）'!D9=\"\",\"□\",\"■\")","v":"□"},"伝統文化",{"$f":"IF('助成申込書（入力シート）'!D10=\"\",\"□\",\"■\")","v":"□"},"スポーツ"]
[null,"( 該当に■をつけてください。分野が複数にわたる場合は、該当する分野すべてに■をつけてください。)"]
["実施時期",{"$f":"IF('助成申込書（入力シート）'!D11=\"\",\"\",'助成申込書（入力シート）'!D11)","v":""}]
["実施場所",{"$f":"IF('助成申込書（入力シート）'!D12=\"\",\"\",'助成申込書（入力シート）'!D12)","v":""}]
["ふりがな",{"$f":"IF('助成申込書（入力シート）'!D13=\"\",\"\",'助成申込書（入力シート）'!D13)","v":""}]
["団 体 名",{"$f":"IF('助成申込書（入力シート）'!D14=\"\",\"\",'助成申込書（入力シート）'!D14)","v":""}]
["団体所在地",{"$f":"IF('助成申込書（入力シート）'!D15=\"\",\"\",'助成申込書（入力シート）'!D15)","v":"　"}]
[null,{"$f":"IF('助成申込書（入力シート）'!F15=\"\",\"\",'助成申込書（入力シート）'!F15)","v":""}]
["団体代表者","役職名",{"$f":"IF('助成申込書（入力シート）'!D16=\"\",\"\",'助成申込書（入力シート）'!D16)","v":""}]
[null,"ふりがな",{"$f":"IF('助成申込書（入力シート）'!D17=\"\",\"\",'助成申込書（入力シート）'!D17)","v":""},null,null,null,"TEL",{"$f":"IF('助成申込書（入力シート）'!I17=\"\",\"\",'助成申込書（入力シート）'!I17)","v":""}]
[null,"氏   名",{"$f":"IF('助成申込書（入力シート）'!D18=\"\",\"\",'助成申込書（入力シート）'!D18)","v":""}]
["【　団  体  連  絡  先　】"]
["住   所",{"$f":"IF('助成申込書（入力シート）'!D19=\"\",\"\",'助成申込書（入力シート）'!D19)","v":"　"},null,null,null,null,null,null,null,null,{"$f":"IF('助成申込書（入力シート）'!I20=\"\",\"□\",\"■\")","v":"□"},"勤務先"]
[null,{"$f":"IF('助成申込書（入力シート）'!F19=\"\",\"\",'助成申込書（入力シート）'!F19)","v":""},null,null,null,null,null,null,null,null,{"$f":"IF('助成申込書（入力シート）'!I21=\"\",\"□\",\"■\")","v":"□"},"自   宅"]
[null,"(勤務先・自宅　いずれかに■をつけてください。勤務先の場合は部署・所属名も記入してください。)"]
["ふりがな",{"$f":"IF('助成申込書（入力シート）'!D20=\"\",\"\",'助成申込書（入力シート）'!D20)","v":""}]
["氏   名",{"$f":"IF('助成申込書（入力シート）'!D21=\"\",\"\",'助成申込書（入力シート）'!D21)","v":""}]
["TEL",{"$f":"IF('助成申込書（入力シート）'!D22=\"\",\"\",'助成申込書（入力シート）'!D22)","v":""},null,null,null,null,"FAX",{"$f":"IF('助成申込書（入力シート）'!D23=\"\",\"\",'助成申込書（入力シート）'!D23)","v":""}]
["メールアドレス",{"$f":"IF('助成申込書（入力シート）'!D24=\"\",\"\",'助成申込書（入力シート）'!D24)","v":""}]
["上記連絡先につきましては、当財団からの書類郵送や確認等のために利用させていただきますので、平日の日中に連絡がつく\n電話番号をご記入ください。なお、メールアドレスをお持ちでしたら必ずご記入ください。個人情報の管理は徹底いたします。"]
[]
["１．申込団体の概要"]
["団体の目的"]
[{"$f":"IF('助成申込書（入力シート）'!D27=\"\",\"\",'助成申込書（入力シート）'!D27)","v":""}]
["団体の沿革（設立年、組織、構成人員等）"]
[{"$f":"IF('助成申込書（入力シート）'!D28=\"\",\"\",'助成申込書（入力シート）'!D28)","v":""}]

{"sheet":"助成申込書2頁（自動入力）","index":2,"n_rows":29,"n_cols":8,"rows_kept":29,"cut":false,"hidden":false,"merged":[[2,0,2,7],[3,0,3,7],[4,0,4,7],[13,1,13,3],[13,5,13,7],[5,0,5,7],[6,0,6,7],[8,1,8,3],[8,5,8,7],[9,0,13,0],[9,1,9,3],[9,4,13,4],[9,5,9,7],[10,1,10,3],[10,5,10,7],[11,1,11,3],[12,1,12,3],[12,5,12,7],[14,1,14,3],[14,4,20,4],[14,5,14,7],[15,1,15,3],[15,5,15,7],[16,1,16,3],[16,5,16,7],[17,1,17,3],[17,5,18,7],[0,0,0,7],[1,0,1,7],[7,0,7,7],[28,0,28,1],[22,0,22,7],[23,0,23,7],[25,0,25,7],[26,0,26,7],[27,0,27,7],[18,1,18,3],[19,1,19,3],[19,5,19,7],[20,1,20,3],[20,5,20,7],[14,0,20,0],[11,5,11,7]]}
["２．活動の内容"]
["下記の「活動分野別の必須記入項目一覧」をご参照のうえ、できるだけ具体的にご記入ください。"]
["（記入欄が足りない場合は、４頁の補紙をご利用ください。）"]
["● 実施計画書や最近のパンフレット・チラシ等、活動内容がわかるものを添付してください。"]
["　なお、応募資料は返却いたしませんのであらかじめご了承ください。"]
["● 過去に助成を受けた団体は、〔特にアピールしたい事項〕欄には、「新たに工夫したことや前回との\n　　変更点など」をご記入ください。"]
[]
["[活動分野別の必須記入項目一覧]"]
["活動分野","記入項目",null,null,"活動分野","記入項目"]
["美　術","（1）  出品者名（○○市在住）　○人",null,null,"伝統文化","（1）  発祥の時期・由来"]
[null,"（2）  中国地域在住者　○％",null,null,null,"（2）  出演（参加）者　○人"]
[null,"（3）  出品数　○点",null,null,null,"（3）  中国地域在住者　○％"]
[null,"（4）  ジャンル",null,null,null,"（4）  演目（品名）"]
[null,"（5）  審査員（公募展の場合）"]
["音　楽","（1）  曲目",null,null,"スポーツ","（1）  実施内容・方法"]
[null,"（2）  作詞・作曲者名",null,null,null,"（2）  出場(参加)者（○○市在住）　○人"]
[null,"（3）  演奏時間",null,null,null,"（3）  中国地域在住者　○％"]
[null,"（4）  演出者名（○○市在住）",null,null,null,"（4）  出場(参加)者のうち高校生以下の\n　　　構成比率　○％"]
[null,"（5）  演奏者名（○○市在住）　○人"]
[null,"（6）  指揮者名（○○市在住）"]
[null,"（7）  中国地域在住者　○％"]
[]
["（別紙参照のみは不可。上記必須記入項目のほか、活動内容をできるだけ具体的にご記入ください。）"]
[{"$f":"IF('助成申込書（入力シート）'!D52=\"\",\"\",'助成申込書（入力シート）'!D52)","v":""}]
[null,null,null,null,null,null,null,{"$f":"IF('助成申込書（入力シート）'!E53=\"\",\"□ 補紙あり\",\"■ 補紙あり\")","v":"■ 補紙あり"}]
["〔特にアピールしたい事項〕"]
[{"$f":"IF('助成申込書（入力シート）'!D54=\"\",\"\",'助成申込書（入力シート）'!D54)","v":""}]
["〔当財団からの助成実績〕当財団から過去に助成を受けた実績があれば、該当年度に■をつけてください"]
[{"$f":"IF('助成申込書（入力シート）'!D55=\"\",\"無　・　■ 有\",\"■ 無　・　有\")","v":"無　・　■ 有"},null,{"$f":"IF('助成申込書（入力シート）'!D56=\"\",\"□ 2024 前期\",\"■ 2024 前期\")","v":"□ 2024 前期"},{"$f":"IF('助成申込書（入力シート）'!D57=\"\",\"□ 2023\",\"■ 2023\")","v":"□ 2023"},{"$f":"IF('助成申込書（入力シート）'!D58=\"\",\"□ 2022\",\"■ 2022\")","v":"□ 2022"},{"$f":"IF('助成申込書（入力シート）'!D59=\"\",\"□ 2021\",\"■ 2021\")","v":"□ 2021"},{"$f":"IF('助成申込書（入力シート）'!D60=\"\",\"□ 2020\",\"■ 2020\")","v":"□ 2020"},{"$f":"IF('助成申込書（入力シート）'!D61=\"\",\"□ 2019\",\"■ 2019\")","v":"□ 2019"}]

{"sheet":"助成申込書３頁（自動入力）","index":3,"n_rows":46,"n_cols":12,"rows_kept":46,"cut":false,"hidden":false,"merged":[[32,0,33,2],[32,3,33,4],[33,5,33,7],[33,8,33,11],[11,7,11,8],[12,7,12,8],[13,7,13,8],[14,7,14,8],[15,7,15,8],[14,9,14,11],[15,9,15,11],[14,1,14,2],[15,1,15,2],[16,1,16,2],[17,1,17,2],[16,9,16,11],[43,6,43,10],[43,0,45,1],[43,2,45,2],[43,4,45,4],[43,3,45,3],[45,6,45,10],[44,6,44,10],[0,0,0,10],[1,0,1,10],[2,0,2,10],[3,0,3,10],[24,3,24,11],[18,3,18,5],[19,3,19,5],[20,3,21,5],[20,9,21,11],[13,3,13,5],[14,3,14,5],[15,3,15,5],[11,1,11,2],[12,1,12,2],[6,0,6,5],[7,3,7,5],[4,0,4,10],[26,0,26,2],[29,0,29,11],[11,3,11,5],[7,0,7,2],[7,6,7,8],[18,6,19,8],[20,0,21,2],[20,6,21,8],[16,3,16,5],[17,3,17,5],[12,3,12,5],[8,3,8,5],[9,3,9,5],[10,3,10,5],[8,1,8,2],[9,1,9,2],[10,1,10,2],[11,9,11,11],[12,9,12,11],[13,9,13,11],[13,1,13,2],[6,6,6,11],[7,9,7,11],[8,9,8,11],[9,9,9,11],[10,9,10,11],[8,7,8,8],[9,7,9,8],[10,7,10,8],[19,1,19,2],[18,1,18,2],[24,0,25,2],[25,3,28,11],[27,0,28,2],[16,7,16,8],[17,7,17,8],[42,0,42,10],[38,3,38,10],[39,3,39,10],[40,3,40,10],[18,9,19,11],[37,0,40,1],[35,0,35,10],[37,3,37,10],[36,0,36,11],[32,5,32,7],[32,8,32,11],[17,9,17,11],[23,0,23,10],[31,0,31,10]]}
["３．収支計画・使用内容等"]
["(1） 収支計画"]
["● 当財団からの助成が無いものとして支出・収入計画をご記入ください。(単位 ： 万円)"]
["● 支出合計と収入合計は必ず一致させてください。"]
["● 支出・収入の各項目は、細分化してご記入ください。"]
[]
["支　　　　　出",null,null,null,null,null,"収　　　　　入"]
["項　　　目",null,null,"金　額(万円)",null,null,"項　　　目",null,null,"金　額(万円)"]
["１.",{"$f":"IF('助成申込書（入力シート）'!D66=\"\",\"\",'助成申込書（入力シート）'!D66)","v":""},null,{"$f":"IF('助成申込書（入力シート）'!H66=\"\",\"\",'助成申込書（入力シート）'!H66)","v":""},null,null,"１.",{"$f":"IF('助成申込書（入力シート）'!D79=\"\",\"\",'助成申込書（入力シート）'!D79)","v":""},null,{"$f":"IF('助成申込書（入力シート）'!H79=\"\",\"\",'助成申込書（入力シート）'!H79)","v":""}]
["２.",{"$f":"IF('助成申込書（入力シート）'!D67=\"\",\"\",'助成申込書（入力シート）'!D67)","v":""},null,{"$f":"IF('助成申込書（入力シート）'!H67=\"\",\"\",'助成申込書（入力シート）'!H67)","v":""},null,null,"２.",{"$f":"IF('助成申込書（入力シート）'!D80=\"\",\"\",'助成申込書（入力シート）'!D80)","v":""},null,{"$f":"IF('助成申込書（入力シート）'!H80=\"\",\"\",'助成申込書（入力シート）'!H80)","v":""}]
["３.",{"$f":"IF('助成申込書（入力シート）'!D68=\"\",\"\",'助成申込書（入力シート）'!D68)","v":""},null,{"$f":"IF('助成申込書（入力シート）'!H68=\"\",\"\",'助成申込書（入力シート）'!H68)","v":""},null,null,"３.",{"$f":"IF('助成申込書（入力シート）'!D81=\"\",\"\",'助成申込書（入力シート）'!D81)","v":""},null,{"$f":"IF('助成申込書（入力シート）'!H81=\"\",\"\",'助成申込書（入力シート）'!H81)","v":""}]
["４.",{"$f":"IF('助成申込書（入力シート）'!D69=\"\",\"\",'助成申込書（入力シート）'!D69)","v":""},null,{"$f":"IF('助成申込書（入力シート）'!H69=\"\",\"\",'助成申込書（入力シート）'!H69)","v":""},null,null,"４.",{"$f":"IF('助成申込書（入力シート）'!D82=\"\",\"\",'助成申込書（入力シート）'!D82)","v":""},null,{"$f":"IF('助成申込書（入力シート）'!H82=\"\",\"\",'助成申込書（入力シート）'!H82)","v":""}]
["５.",{"$f":"IF('助成申込書（入力シート）'!D70=\"\",\"\",'助成申込書（入力シート）'!D70)","v":""},null,{"$f":"IF('助成申込書（入力シート）'!H70=\"\",\"\",'助成申込書（入力シート）'!H70)","v":""},null,null,"５.",{"$f":"IF('助成申込書（入力シート）'!D83=\"\",\"\",'助成申込書（入力シート）'!D83)","v":""},null,{"$f":"IF('助成申込書（入力シート）'!H83=\"\",\"\",'助成申込書（入力シート）'!H83)","v":""}]
["６.",{"$f":"IF('助成申込書（入力シート）'!D71=\"\",\"\",'助成申込書（入力シート）'!D71)","v":""},null,{"$f":"IF('助成申込書（入力シート）'!H71=\"\",\"\",'助成申込書（入力シート）'!H71)","v":""},null,null,"６.",{"$f":"IF('助成申込書（入力シート）'!D84=\"\",\"\",'助成申込書（入力シート）'!D84)","v":""},null,{"$f":"IF('助成申込書（入力シート）'!H84=\"\",\"\",'助成申込書（入力シート）'!H84)","v":""}]
["７.",{"$f":"IF('助成申込書（入力シート）'!D72=\"\",\"\",'助成申込書（入力シート）'!D72)","v":""},null,{"$f":"IF('助成申込書（入力シート）'!H72=\"\",\"\",'助成申込書（入力シート）'!H72)","v":""},null,null,"７.",{"$f":"IF('助成申込書（入力シート）'!D85=\"\",\"\",'助成申込書（入力シート）'!D85)","v":""},null,{"$f":"IF('助成申込書（入力シート）'!H85=\"\",\"\",'助成申込書（入力シート）'!H85)","v":""}]
["８.",{"$f":"IF('助成申込書（入力シート）'!D73=\"\",\"\",'助成申込書（入力シート）'!D73)","v":""},null,{"$f":"IF('助成申込書（入力シート）'!H73=\"\",\"\",'助成申込書（入力シート）'!H73)","v":""},null,null,"８.",{"$f":"IF('助成申込書（入力シート）'!D86=\"\",\"\",'助成申込書（入力シート）'!D86)","v":""},null,{"$f":"IF('助成申込書（入力シート）'!H86=\"\",\"\",'助成申込書（入力シート）'!H86)","v":""}]
["９.",{"$f":"IF('助成申込書（入力シート）'!D74=\"\",\"\",'助成申込書（入力シート）'!D74)","v":""},null,{"$f":"IF('助成申込書（入力シート）'!H74=\"\",\"\",'助成申込書（入力シート）'!H74)","v":""},null,null,"９.",{"$f":"IF('助成申込書（入力シート）'!D87=\"\",\"\",'助成申込書（入力シート）'!D87)","v":""},null,{"$f":"IF('助成申込書（入力シート）'!H87=\"\",\"\",'助成申込書（入力シート）'!H87)","v":""}]
["１０.",{"$f":"IF('助成申込書（入力シート）'!D75=\"\",\"\",'助成申込書（入力シート）'!D75)","v":""},null,{"$f":"IF('助成申込書（入力シート）'!H75=\"\",\"\",'助成申込書（入力シート）'!H75)","v":""},null,null,"１０.",{"$f":"IF('助成申込書（入力シート）'!D88=\"\",\"\",'助成申込書（入力シート）'!D88)","v":""},null,{"$f":"IF('助成申込書（入力シート）'!H88=\"\",\"\",'助成申込書（入力シート）'!H88)","v":""}]
["１１.",{"$f":"IF('助成申込書（入力シート）'!D76=\"\",\"\",'助成申込書（入力シート）'!D76)","v":""},null,{"$f":"IF('助成申込書（入力シート）'!H76=\"\",\"\",'助成申込書（入力シート）'!H76)","v":""},null,null,"自己負担金",null,null,{"$f":"IF('助成申込書（入力シート）'!H89=\"\",\"\",'助成申込書（入力シート）'!H89)","v":""}]
["１２.",{"$f":"IF('助成申込書（入力シート）'!D77=\"\",\"\",'助成申込書（入力シート）'!D77)","v":""},null,{"$f":"IF('助成申込書（入力シート）'!H77=\"\",\"\",'助成申込書（入力シート）'!H77)","v":""}]
["支出合計",null,null,{"$f":"SUM(D9:F20)","v":0},null,null,"収入合計",null,null,{"$f":"SUM(J9:L20)","v":0}]
[]
[]
["(2) 助成希望額(※1)とその使用内容(※2)について"]
["助成希望額",null,null,"上記支出欄のうち、どの項目に使用するかをご記入ください。 "]
[null,null,null,{"$f":"IF('助成申込書（入力シート）'!D94=\"\",\"\",'助成申込書（入力シート）'!D94)","v":""}]
["（原則10～50万円）"]
[{"$f":"'助成申込書（入力シート）'!H92","v":0}]
[]
["※1 助成額は対象となる経費の2分の1を上限　　※2 助成の対象とならない経費(募集要項参照)があります。"]
[]
["(3) 入場料"]
[{"$f":"IF('助成申込書（入力シート）'!D98=\"\",\"・無　料\",\"■ 無　料\")","v":"・無　料"},null,null,{"$f":"IF('助成申込書（入力シート）'!F99=\"\",\"・ 有　料\",\"■ 有　料\")","v":"・ 有　料"},null,{"$f":"IF('助成申込書（入力シート）'!F99=\"\",\"　　　　　　　円\",'助成申込書（入力シート）'!F99)","v":"　　　　　　　円"},null,null,{"$f":"IF('助成申込書（入力シート）'!F99=\"\",\"当日の一般\",'助成申込書（入力シート）'!H99)","v":"当日の一般"}]
[null,null,null,null,null,{"$f":"IF('助成申込書（入力シート）'!F100=\"\",\"　　　　　　　円\",'助成申込書（入力シート）'!F100)","v":"　　　　　　　円"},null,null,{"$f":"IF('助成申込書（入力シート）'!F100=\"\",\"　　　　　　　　　　　\",'助成申込書（入力シート）'!H100)","v":"　　　　　　　　　　　"}]
[]
["(4) 協賛者等"]
["共催･協賛･後援者名 (主催者が複数の場合はその名称もご記入ください。)"]
[{"$f":"IF('助成申込書（入力シート）'!D102=\"\",\"・ 無\",\"■ 無\")","v":"・ 無"},null,{"$f":"'助成申込書（入力シート）'!B103","v":"主催者"},{"$f":"IF('助成申込書（入力シート）'!D103=\"\",\"\",'助成申込書（入力シート）'!D103)","v":""}]
[null,null,{"$f":"'助成申込書（入力シート）'!B104","v":"共催者"},{"$f":"IF('助成申込書（入力シート）'!D104=\"\",\"\",'助成申込書（入力シート）'!D104)","v":""}]
[null,null,{"$f":"'助成申込書（入力シート）'!B105","v":"協賛者"},{"$f":"IF('助成申込書（入力シート）'!D105=\"\",\"\",'助成申込書（入力シート）'!D105)","v":""}]
[null,null,{"$f":"'助成申込書（入力シート）'!B106","v":"後援者"},{"$f":"IF('助成申込書（入力シート）'!D106=\"\",\"\",'助成申込書（入力シート）'!D106)","v":""}]
[]
["(5) お差支えなければ、本申込活動についての他財団への申請の有無をご記入ください。"]
[{"$f":"IF('助成申込書（入力シート）'!D108=\"\",\"・ 無\",\"■ 無\")","v":"・ 無"},null,{"$f":"IF('助成申込書（入力シート）'!D108=\"\",\"■ 有\",\"・ 有\")","v":"■ 有"},null,"申請先","〔",{"$f":"IF('助成申込書（入力シート）'!D109=\"\",\"\",'助成申込書（入力シート）'!D109)","v":""},null,null,null,null,"〕"]
[null,null,null,null,null,"〔",{"$f":"IF('助成申込書（入力シート）'!D110=\"\",\"\",'助成申込書（入力シート）'!D110)","v":""},null,null,null,null,"〕"]
[null,null,null,null,null,"〔",{"$f":"IF('助成申込書（入力シート）'!D111=\"\",\"\",'助成申込書（入力シート）'!D111)","v":""},null,null,null,null,"〕"]

{"sheet":"助成申込書４頁（補紙・その他）","index":4,"n_rows":10,"n_cols":2,"rows_kept":10,"cut":false,"hidden":false,"merged":[[2,1,4,1]]}
[]
[null,"補紙（「２．活動の内容」等の補紙としてご利用ください。）"]
[]
[]
[]
[]
[null,"４．その他"]
[null,"（ご意見ご要望がございましたらご記入ください。）"]
[]
[null,"◎お申し込みの際にいただきました個人情報は、選考および採否の結果通知等の業務にのみ利用します。"]

{"sheet":"リスト","index":5,"n_rows":32,"n_cols":5,"rows_kept":32,"cut":false,"hidden":true,"merged":[]}
[null,"年","月","日"]
[null,"２０２４","１","１","〇"]
[null,"２０２５","２","２"]
[null,"２０２６","３","３"]
[null,"２０２７","４","４"]
[null,"２０２８","５","５"]
[null,"２０２９","６","６"]
[null,"２０３０","７","７"]
[null,null,"８","８"]
[null,null,"９","９"]
[null,null,"１０","１０"]
[null,null,"１１","１１"]
[null,null,"１２","１２"]
[null,null,null,"１３"]
[null,null,null,"１４"]
[null,null,null,"１５"]
[null,null,null,"１６"]
[null,null,null,"１７"]
[null,null,null,"１８"]
[null,null,null,"１９"]
[null,null,null,"２０"]
[null,null,null,"２１"]
[null,null,null,"２２"]
[null,null,null,"２３"]
[null,null,null,"２４"]
[null,null,null,"２５"]
[null,null,null,"２６"]
[null,null,null,"２７"]
[null,null,null,"２８"]
[null,null,null,"２９"]
[null,null,null,"３０"]
[null,null,null,"３１"]